BEGIN:VCALENDAR
VERSION:2.0
PRODID:-//wp-events-plugin.com//7.2.3.1//EN
TZID:Asia/Tokyo
X-WR-TIMEZONE:Asia/Tokyo
BEGIN:VEVENT
UID:488@osaka-kosodate-chuo.net
DTSTART;TZID=Asia/Tokyo:20260404T123000
DTEND;TZID=Asia/Tokyo:20260404T150000
DTSTAMP:20260303T044025Z
URL:https://osaka-kosodate-chuo.net/events/%e3%83%95%e3%82%a1%e3%83%9f%e3%
 83%aa%e3%83%bc%e3%83%87%e3%82%a4%ef%bc%88%ef%bc%94%e6%9c%88%ef%bc%89/
SUMMARY:ファミリーデイ（４月）
DESCRIPTION:
CATEGORIES:乳幼児,児童
LOCATION:中央区子ども・子育てプラザ　２階　軽運動室\, 
 島之内2-12-6\, 大阪市中央区\, 大阪府\, 日本
X-APPLE-STRUCTURED-LOCATION;VALUE=URI;X-ADDRESS=島之内2-12-6\, 大阪市
 中央区\, 大阪府\, 日本;X-APPLE-RADIUS=100;X-TITLE=中央区子ど
 も・子育てプラザ　２階　軽運動室:geo:0,0
END:VEVENT
BEGIN:VTIMEZONE
TZID:Asia/Tokyo
X-LIC-LOCATION:Asia/Tokyo
BEGIN:STANDARD
DTSTART:20250404T123000
TZOFFSETFROM:+0900
TZOFFSETTO:+0900
TZNAME:JST
END:STANDARD
END:VTIMEZONE
END:VCALENDAR