BEGIN:VCALENDAR
VERSION:2.0
PRODID:-//wp-events-plugin.com//7.2.3.1//EN
TZID:Asia/Tokyo
X-WR-TIMEZONE:Asia/Tokyo
BEGIN:VEVENT
UID:492@osaka-kosodate-chuo.net
DTSTART;TZID=Asia/Tokyo:20260415T103000
DTEND;TZID=Asia/Tokyo:20260415T113000
DTSTAMP:20260303T003309Z
URL:https://osaka-kosodate-chuo.net/events/2026-04sukusuku/
SUMMARY:すくすくステーション（助産師相談：成長記録）4
 月
DESCRIPTION:
ATTACH;FMTTYPE=image/jpeg:https://osaka-kosodate-chuo.net/wp-content/uploa
 ds/2026/02/4月ちらし.jpg
CATEGORIES:乳幼児
LOCATION:中央区子ども・子育てプラザ　２階\, 中央区島之
 内2-12-6\, 大阪市中央区\, 日本
X-APPLE-STRUCTURED-LOCATION;VALUE=URI;X-ADDRESS=中央区島之内2-12-6\, 
 大阪市中央区\, 日本;X-APPLE-RADIUS=100;X-TITLE=中央区子ども
 ・子育てプラザ　２階:geo:0,0
END:VEVENT
BEGIN:VTIMEZONE
TZID:Asia/Tokyo
X-LIC-LOCATION:Asia/Tokyo
BEGIN:STANDARD
DTSTART:20250415T103000
TZOFFSETFROM:+0900
TZOFFSETTO:+0900
TZNAME:JST
END:STANDARD
END:VTIMEZONE
END:VCALENDAR